BEGIN:VCALENDAR
VERSION:2.0
PRODID:-//wp-events-plugin.com//6.6.3//EN
TZID:Europe/Paris
X-WR-TIMEZONE:Europe/Paris
BEGIN:VEVENT
UID:224@fja.be
DTSTART;TZID=Europe/Paris:20250713T080000
DTEND;TZID=Europe/Paris:20250713T223000
DTSTAMP:20250603T062508Z
URL:https://fja.be/evenements/2eme-concours-de-traction-fja-beaumont/
SUMMARY:2ème Concours de traction - FJA Beaumont
DESCRIPTION:
CATEGORIES:Concours de traction
END:VEVENT
BEGIN:VTIMEZONE
TZID:Europe/Paris
X-LIC-LOCATION:Europe/Paris
BEGIN:DAYLIGHT
DTSTART:20250330T030000
TZOFFSETFROM:+0100
TZOFFSETTO:+0200
TZNAME:CEST
END:DAYLIGHT
END:VTIMEZONE
END:VCALENDAR