BEGIN:VCALENDAR
VERSION:2.0
PRODID:-//wp-events-plugin.com//6.6.3//EN
TZID:Europe/Paris
X-WR-TIMEZONE:Europe/Paris
BEGIN:VEVENT
UID:227@fja.be
DTSTART;TZID=Europe/Paris:20250726T210000
DTEND;TZID=Europe/Paris:20250726T234500
DTSTAMP:20250625T073542Z
URL:https://fja.be/evenements/after-foire-de-libramont-by-fja-province-du-
 luxembourg/
SUMMARY:After Foire de Libramont by FJA Province du Luxembourg
DESCRIPTION:
CATEGORIES:Soirée
END:VEVENT
BEGIN:VTIMEZONE
TZID:Europe/Paris
X-LIC-LOCATION:Europe/Paris
BEGIN:DAYLIGHT
DTSTART:20250330T030000
TZOFFSETFROM:+0100
TZOFFSETTO:+0200
TZNAME:CEST
END:DAYLIGHT
END:VTIMEZONE
END:VCALENDAR