BEGIN:VCALENDAR
VERSION:2.0
PRODID:-//wp-events-plugin.com//6.6.3//EN
TZID:Europe/Paris
X-WR-TIMEZONE:Europe/Paris
BEGIN:VEVENT
UID:89@fja.be
DTSTART;TZID=Europe/Paris:20240727T210000
DTEND;TZID=Europe/Paris:20240727T234500
DTSTAMP:20240627T122835Z
URL:https://fja.be/evenements/after-foire-de-libramont/
SUMMARY:After Foire de Libramont
DESCRIPTION:Vous êtes invités par la FJA Provinciale de Luxembourg ! \n\
 nCette année\, laissez tomber la soirée Jumping et rejoignez-nous pour u
 ne soirée After Foire de Libramont qui va tout déchirer ! Avec DJ Micha
 el Triplot aux platines by sono Dax  \, préparez-vous à une ambiance d
 e folie et à des moments mémorables ! \n\nQuand ? Le Samedi 27 juillet
  2024 à partir de 21h00Où ?Institut Saint Joseph de Libramont\nTarifs ?N
 on membres : 8 eurosMembres : 6 euros ( application obligatoire)Boissons :
  2 euros\n\nNe manquez pas cette occasion de célébrer l'été et de fair
 e la fête après la Foire de Libramont ! \n\nMarquez cette date dans vot
 re calendrier et préparez-vous pour une soirée inoubliable ! \n\nLa FJA
  provinciale de Luxembourg décline toutes responsabilités en cas de vols
 \, pertes ou accidents et se réserve également le droit d'entrée.
CATEGORIES:Soirée
END:VEVENT
BEGIN:VTIMEZONE
TZID:Europe/Paris
X-LIC-LOCATION:Europe/Paris
BEGIN:DAYLIGHT
DTSTART:20240331T030000
TZOFFSETFROM:+0100
TZOFFSETTO:+0200
TZNAME:CEST
END:DAYLIGHT
END:VTIMEZONE
END:VCALENDAR