BEGIN:VCALENDAR
VERSION:2.0
PRODID:-//wp-events-plugin.com//6.6.3//EN
TZID:Europe/Paris
X-WR-TIMEZONE:Europe/Paris
BEGIN:VEVENT
UID:270@fja.be
DTSTART;TZID=Europe/Paris:20251213T163000
DTEND;TZID=Europe/Paris:20251213T234500
DTSTAMP:20251114T143348Z
URL:https://fja.be/evenements/balade-de-noel-de-la-fja-houffalize-vielsam/
SUMMARY:Balade de Noel de la FJA Houffalize-Vielsam
DESCRIPTION:
CATEGORIES:Soirée
END:VEVENT
BEGIN:VTIMEZONE
TZID:Europe/Paris
X-LIC-LOCATION:Europe/Paris
BEGIN:STANDARD
DTSTART:20251026T020000
TZOFFSETFROM:+0200
TZOFFSETTO:+0100
TZNAME:CET
END:STANDARD
END:VTIMEZONE
END:VCALENDAR