BEGIN:VCALENDAR
VERSION:2.0
PRODID:-//wp-events-plugin.com//6.6.3//EN
TZID:Europe/Paris
X-WR-TIMEZONE:Europe/Paris
BEGIN:VEVENT
UID:330@fja.be
DTSTART;TZID=Europe/Paris:20260510T073000
DTEND;TZID=Europe/Paris:20260510T230000
DTSTAMP:20260421T110759Z
URL:https://fja.be/evenements/balade-des-vieux-tracteurs-by-fja-sud-lux/
SUMMARY:Balade des vieux tracteurs by FJA Sud-Lux
DESCRIPTION:
CATEGORIES:Soirée
END:VEVENT
BEGIN:VTIMEZONE
TZID:Europe/Paris
X-LIC-LOCATION:Europe/Paris
BEGIN:DAYLIGHT
DTSTART:20260329T030000
TZOFFSETFROM:+0100
TZOFFSETTO:+0200
TZNAME:CEST
END:DAYLIGHT
END:VTIMEZONE
END:VCALENDAR