BEGIN:VCALENDAR
VERSION:2.0
PRODID:-//wp-events-plugin.com//6.6.3//EN
TZID:Europe/Paris
X-WR-TIMEZONE:Europe/Paris
BEGIN:VEVENT
UID:315@fja.be
DTSTART;TZID=Europe/Paris:20260409T190000
DTEND;TZID=Europe/Paris:20260409T220000
DTSTAMP:20260324T075651Z
URL:https://fja.be/evenements/bonne-gestion-financiere-de-son-exploitation
 /
SUMMARY:Bonne gestion financière de son exploitation
DESCRIPTION:\nVous êtes agriculteur\, éleveur ou les deux ? Cette formati
 on de 3 soirées est là pour vous aider à mieux piloter votre exploitati
 on.\n\n\n\n Au programme :\n• Comprendre et utiliser la comptabilité de
  gestion agricole\n• Préparer une demande de crédit solide et convainc
 ante\n• Maîtriser les bases de la fiscalité\n\n\n\n Des outils pratiqu
 es\n Des exemples concrets\n Pour une gestion claire\, efficace et autonom
 e de votre activité\n\n\nLa formation aura lieu les jeudis 09\, 16 et 23 
 avril de 19h00 à 22h00.\n\n\n\n\n Infos : 081/81.01.05 - laure.baudoin@fj
 a.be\n Inscriptions : https://form.jotform.com/FJA/formation-bonne-gestion
 \n
CATEGORIES:Cours C
END:VEVENT
BEGIN:VTIMEZONE
TZID:Europe/Paris
X-LIC-LOCATION:Europe/Paris
BEGIN:DAYLIGHT
DTSTART:20260329T030000
TZOFFSETFROM:+0100
TZOFFSETTO:+0200
TZNAME:CEST
END:DAYLIGHT
END:VTIMEZONE
END:VCALENDAR