BEGIN:VCALENDAR
VERSION:2.0
PRODID:-//wp-events-plugin.com//6.6.3//EN
TZID:Europe/Paris
X-WR-TIMEZONE:Europe/Paris
BEGIN:VEVENT
UID:202@fja.be
DTSTART;TZID=Europe/Paris;VALUE=DATE:20250927
DTEND;TZID=Europe/Paris;VALUE=DATE:20250928
DTSTAMP:20250521T070812Z
URL:https://fja.be/evenements/cmj-national-by-fja-malmedy/
SUMMARY:CMJ national by FJA Malmedy
DESCRIPTION:
CATEGORIES:CMJ PNH
END:VEVENT
BEGIN:VTIMEZONE
TZID:Europe/Paris
X-LIC-LOCATION:Europe/Paris
BEGIN:DAYLIGHT
DTSTART:20250330T030000
TZOFFSETFROM:+0100
TZOFFSETTO:+0200
TZNAME:CEST
END:DAYLIGHT
END:VTIMEZONE
END:VCALENDAR