BEGIN:VCALENDAR
VERSION:2.0
PRODID:-//wp-events-plugin.com//6.6.3//EN
TZID:Europe/Paris
X-WR-TIMEZONE:Europe/Paris
BEGIN:VEVENT
UID:54@fja.be
DTSTART;TZID=Europe/Paris;VALUE=DATE:20240713
DTEND;TZID=Europe/Paris;VALUE=DATE:20240714
DTSTAMP:20240605T101557Z
URL:https://fja.be/evenements/cmj-nord-luxembourg/
SUMMARY:CMJ Nord-Luxembourg
DESCRIPTION:
CATEGORIES:CMJ BBB
END:VEVENT
BEGIN:VTIMEZONE
TZID:Europe/Paris
X-LIC-LOCATION:Europe/Paris
BEGIN:DAYLIGHT
DTSTART:20240331T030000
TZOFFSETFROM:+0100
TZOFFSETTO:+0200
TZNAME:CEST
END:DAYLIGHT
END:VTIMEZONE
END:VCALENDAR