BEGIN:VCALENDAR
VERSION:2.0
PRODID:-//wp-events-plugin.com//6.6.3//EN
TZID:Europe/Paris
X-WR-TIMEZONE:Europe/Paris
BEGIN:VEVENT
UID:304@fja.be
DTSTART;TZID=Europe/Paris;VALUE=DATE:20260719
DTEND;TZID=Europe/Paris;VALUE=DATE:20260720
DTSTAMP:20260309T104044Z
URL:https://fja.be/evenements/cmj-philippeville-2/
SUMMARY:CMJ Philippeville
DESCRIPTION:
CATEGORIES:CMJ BBB,CMJ PNH
END:VEVENT
BEGIN:VTIMEZONE
TZID:Europe/Paris
X-LIC-LOCATION:Europe/Paris
BEGIN:DAYLIGHT
DTSTART:20260329T030000
TZOFFSETFROM:+0100
TZOFFSETTO:+0200
TZNAME:CEST
END:DAYLIGHT
END:VTIMEZONE
END:VCALENDAR