BEGIN:VCALENDAR
VERSION:2.0
PRODID:-//wp-events-plugin.com//6.6.3//EN
TZID:Europe/Paris
X-WR-TIMEZONE:Europe/Paris
BEGIN:VEVENT
UID:85@fja.be
DTSTART;TZID=Europe/Paris:20240706T213000
DTEND;TZID=Europe/Paris:20240706T234500
DTSTAMP:20240621T090929Z
URL:https://fja.be/evenements/cocktail-party-by-fja-nivelles-genappe/
SUMMARY:Cocktail party by FJA Nivelles-Genappe
DESCRIPTION:Pour débuter ce week-end CMJ\, la FJA Nivelles-Genappe vous pr
 opose une soirée à cocktail\nAlors pour ce début d'été on t'attend su
 r le dancefloor on fire\n\n\nLes cocktails vous seront dévoilés incessam
 ment sous peu \nQuandLe 6 juillet à 21h30\n\nOùFerme du mont 1\, 1421 b
 raine l'alleud\n\nTarifsMembre: 20€Non-Membre: 25€\n\nAmbiance assuré
 e\nrestauration prévue pour vous rassasier toute la soirée\nSoirée inte
 rdite au moins de 16 ans\, carte d'identité obligatoire 
CATEGORIES:Soirée
END:VEVENT
BEGIN:VTIMEZONE
TZID:Europe/Paris
X-LIC-LOCATION:Europe/Paris
BEGIN:DAYLIGHT
DTSTART:20240331T030000
TZOFFSETFROM:+0100
TZOFFSETTO:+0200
TZNAME:CEST
END:DAYLIGHT
END:VTIMEZONE
END:VCALENDAR