BEGIN:VCALENDAR
VERSION:2.0
PRODID:-//wp-events-plugin.com//6.6.3//EN
TZID:Europe/Paris
X-WR-TIMEZONE:Europe/Paris
BEGIN:VEVENT
UID:234@fja.be
DTSTART;TZID=Europe/Paris;VALUE=DATE:20250830
DTEND;TZID=Europe/Paris;VALUE=DATE:20250831
DTSTAMP:20250807T114026Z
URL:https://fja.be/evenements/concours-de-traction-by-fja-nivelles/
SUMMARY:Concours de traction by FJA Nivelles
DESCRIPTION:
CATEGORIES:Concours de traction
END:VEVENT
BEGIN:VTIMEZONE
TZID:Europe/Paris
X-LIC-LOCATION:Europe/Paris
BEGIN:DAYLIGHT
DTSTART:20250330T030000
TZOFFSETFROM:+0100
TZOFFSETTO:+0200
TZNAME:CEST
END:DAYLIGHT
END:VTIMEZONE
END:VCALENDAR