BEGIN:VCALENDAR
VERSION:2.0
PRODID:-//wp-events-plugin.com//6.6.3//EN
TZID:Europe/Paris
X-WR-TIMEZONE:Europe/Paris
BEGIN:VEVENT
UID:235@fja.be
DTSTART;TZID=Europe/Paris;VALUE=DATE:20250907
DTEND;TZID=Europe/Paris;VALUE=DATE:20250908
DTSTAMP:20250807T115354Z
URL:https://fja.be/evenements/concours-de-traction-de-la-fja-de-soignies/
SUMMARY:Concours de traction de la FJA de Soignies
DESCRIPTION:
CATEGORIES:Concours de traction
END:VEVENT
BEGIN:VTIMEZONE
TZID:Europe/Paris
X-LIC-LOCATION:Europe/Paris
BEGIN:DAYLIGHT
DTSTART:20250330T030000
TZOFFSETFROM:+0100
TZOFFSETTO:+0200
TZNAME:CEST
END:DAYLIGHT
END:VTIMEZONE
END:VCALENDAR