BEGIN:VCALENDAR
VERSION:2.0
PRODID:-//wp-events-plugin.com//6.6.3//EN
TZID:Europe/Paris
X-WR-TIMEZONE:Europe/Paris
BEGIN:VEVENT
UID:292@fja.be
DTSTART;TZID=Europe/Paris:20260311T183000
DTEND;TZID=Europe/Paris:20260311T213000
DTSTAMP:20260205T125824Z
URL:https://fja.be/evenements/diversification-agricole-comment-reinventer-
 sa-forme/
SUMMARY:Diversification agricole - Comment réinventer sa forme ?
DESCRIPTION:\n Envie de donner un nouvel élan à votre ferme ?\n Participe
 z à notre formation en diversification agricole et explorez de nouvelles 
 pistes pour enrichir ou développer une activité en hébergement touristi
 que\, vente en circuit court ou ferme pédagogique.\n Des idées concrète
 s\, des retours d'expérience et des visites de ferme pour passer à l'act
 ion et faire de votre projet une réussite !\n\n\nAu programme :\n- Mercre
 di 11 mars : Circuits courts à Horion-Hozémont\n- Jeudi 19 mars : Fermes
  pédagogiques à Huy\n- Mardi 24 mars : Hébergements touristiques de ter
 roir à Villers-le-Temple\n\n\n\n\n Informations : 081/81.01.05 - laure.ba
 udoin@fja.be\n Inscriptions : https://form.jotform.com/260352416334349\n\n
 \n\nEn partenariat avec Accueil Champêtre en Wallonie\n
CATEGORIES:Cours C
END:VEVENT
BEGIN:VTIMEZONE
TZID:Europe/Paris
X-LIC-LOCATION:Europe/Paris
BEGIN:STANDARD
DTSTART:20251026T020000
TZOFFSETFROM:+0200
TZOFFSETTO:+0100
TZNAME:CET
END:STANDARD
END:VTIMEZONE
END:VCALENDAR