BEGIN:VCALENDAR
VERSION:2.0
PRODID:-//wp-events-plugin.com//6.6.3//EN
TZID:Europe/Paris
X-WR-TIMEZONE:Europe/Paris
BEGIN:VEVENT
UID:310@fja.be
DTSTART;TZID=Europe/Paris;VALUE=DATE:20260906
DTEND;TZID=Europe/Paris;VALUE=DATE:20260907
DTSTAMP:20260309T104449Z
URL:https://fja.be/evenements/fja-beauraing-finale-provinciale/
SUMMARY:FJA Beauraing - Finale provinciale
DESCRIPTION:
CATEGORIES:CMJ BBB
END:VEVENT
BEGIN:VTIMEZONE
TZID:Europe/Paris
X-LIC-LOCATION:Europe/Paris
BEGIN:DAYLIGHT
DTSTART:20260329T030000
TZOFFSETFROM:+0100
TZOFFSETTO:+0200
TZNAME:CEST
END:DAYLIGHT
END:VTIMEZONE
END:VCALENDAR