BEGIN:VCALENDAR
VERSION:2.0
PRODID:-//wp-events-plugin.com//6.6.3//EN
TZID:Europe/Paris
X-WR-TIMEZONE:Europe/Paris
BEGIN:VEVENT
UID:273@fja.be
DTSTART;TZID=Europe/Paris:20260114T130000
DTEND;TZID=Europe/Paris:20260114T160000
DTSTAMP:20251201T131120Z
URL:https://fja.be/evenements/formation-dinitiation-a-linsemination-artifi
 cielle-luxembourg/
SUMMARY:Formation d'initiation à l'insémination artificielle - Luxembourg
DESCRIPTION:Les cours théoriques et pratiques seront dispensés chez Monsi
 eur Weis à Colpach-Bas.\n\nHoraire :\n\nCours théoriques : 14\, 21 et 28
  janvier 2026\n\nCours pratiques : du 04 février au 08 avril 2026\n\nInfo
 rmations et inscriptions :\n\nLaure Baudoin - 081/81.01.05\n\nhttps://form
 .jotform.com/FJA/inscriptions-insemination-lux
CATEGORIES:Cours C
END:VEVENT
BEGIN:VTIMEZONE
TZID:Europe/Paris
X-LIC-LOCATION:Europe/Paris
BEGIN:STANDARD
DTSTART:20251026T020000
TZOFFSETFROM:+0200
TZOFFSETTO:+0100
TZNAME:CET
END:STANDARD
END:VTIMEZONE
END:VCALENDAR