BEGIN:VCALENDAR
VERSION:2.0
PRODID:-//wp-events-plugin.com//6.6.3//EN
TZID:Europe/Paris
X-WR-TIMEZONE:Europe/Paris
BEGIN:VEVENT
UID:253@fja.be
DTSTART;TZID=Europe/Paris:20251103T190000
DTEND;TZID=Europe/Paris:20251103T220000
DTSTAMP:20250926T073157Z
URL:https://fja.be/evenements/formation-initiation-a-lelevage-caprin/
SUMMARY:Formation - Initiation à l'élevage caprin
DESCRIPTION:Au programme :\n\n 	Situation du secteur\, objectif de producti
 ons et principales législations liées à la détention d'animaux\n 	Cond
 uite d'élevage et alimentation\n 	Bâtiment\, matériel et critères de r
 entabilité\n 	Reproduction et sélection\n 	Conduite sanitaire des troupe
 aux\n 	Production laitière\, traite et qualité du lait\n 	Visite d'élev
 age\n 	Découverte de la fabrication du fromage\n\n&nbsp\;\n\nDates :\n\n 
 	Formations théoriques à la FJA : Tous les lundis du 03 novembre au 08 d
 écembre de 19h00 à 22h00.\n 	Visite d'élevage chez Henri Gomand à Lier
 nu : Date à confirmer\n 	Journée découverte de fabrication de fromages 
 au Pôle fromager EPASC à Ciney : lundi 15 décembre de 09h00 à 16h00\n\
 n&nbsp\;\n\nInfos et inscriptions :\n\n 	081/81.01.05 - laure.baudoin@fja.
 be\n 	https://form.jotform.com/FJA/formation-caprins\n
CATEGORIES:Cours C
END:VEVENT
BEGIN:VTIMEZONE
TZID:Europe/Paris
X-LIC-LOCATION:Europe/Paris
BEGIN:STANDARD
DTSTART:20251026T020000
TZOFFSETFROM:+0200
TZOFFSETTO:+0100
TZNAME:CET
END:STANDARD
END:VTIMEZONE
END:VCALENDAR