BEGIN:VCALENDAR
VERSION:2.0
PRODID:-//wp-events-plugin.com//6.6.3//EN
TZID:Europe/Paris
X-WR-TIMEZONE:Europe/Paris
BEGIN:VEVENT
UID:252@fja.be
DTSTART;TZID=Europe/Paris:20251106T180000
DTEND;TZID=Europe/Paris:20251106T210000
DTSTAMP:20250926T065704Z
URL:https://fja.be/evenements/initiation-a-la-maconnerie/
SUMMARY:Initiation à la maçonnerie
DESCRIPTION:Au programme :\n\n 	Maçonnerie de briques et de blocs\n 	Pose 
 traditionnelle\n 	Connaissance des matériaux\n 	Connaissance et manipulat
 ion de l'outillage\n 	Préparation de chantier\n 	Rejointoyage\n\nDates :\
 n\nTous les jeudis de 18h00 à 21h00 à partir du 06 novembre 2025 jusqu'a
 u 05 février 2026.\n\nInformations et inscriptions :\n\nLaure Baudoin - 0
 81/81.01.05 ou laure.baudoin@fja.be\n\nLien d'inscription : https://form.j
 otform.com/FJA/formation-maonnerie-huy
CATEGORIES:Cours C
END:VEVENT
BEGIN:VTIMEZONE
TZID:Europe/Paris
X-LIC-LOCATION:Europe/Paris
BEGIN:STANDARD
DTSTART:20251026T020000
TZOFFSETFROM:+0200
TZOFFSETTO:+0100
TZNAME:CET
END:STANDARD
END:VTIMEZONE
END:VCALENDAR