BEGIN:VCALENDAR
VERSION:2.0
PRODID:-//wp-events-plugin.com//6.6.3//EN
TZID:Europe/Paris
X-WR-TIMEZONE:Europe/Paris
BEGIN:VEVENT
UID:98@fja.be
DTSTART;TZID=Europe/Paris:20241206T180000
DTEND;TZID=Europe/Paris:20241206T214500
DTSTAMP:20241112T153620Z
URL:https://fja.be/evenements/initiation-a-la-soudure-nivelles/
SUMMARY:COMPLET Initiation à la soudure - Nivelles
DESCRIPTION:Les vendredis de 18h00 à 21h45
CATEGORIES:Cours C
LOCATION:IPFC Brabant-Wallon\, Rue Demulder 1\, Nivelles\, Belgique\, 1400\
 , Brabant-Wallon\, Belgique
X-APPLE-STRUCTURED-LOCATION;VALUE=URI;X-ADDRESS=Rue Demulder 1\, Nivelles\,
  Belgique\, 1400\, Brabant-Wallon\, Belgique;X-APPLE-RADIUS=100;X-TITLE=IP
 FC Brabant-Wallon:geo:0,0
END:VEVENT
BEGIN:VTIMEZONE
TZID:Europe/Paris
X-LIC-LOCATION:Europe/Paris
BEGIN:STANDARD
DTSTART:20241027T020000
TZOFFSETFROM:+0200
TZOFFSETTO:+0100
TZNAME:CET
END:STANDARD
END:VTIMEZONE
END:VCALENDAR