BEGIN:VCALENDAR
VERSION:2.0
PRODID:-//wp-events-plugin.com//6.6.3//EN
TZID:Europe/Paris
X-WR-TIMEZONE:Europe/Paris
BEGIN:VEVENT
UID:251@fja.be
DTSTART;TZID=Europe/Paris:20251106T180000
DTEND;TZID=Europe/Paris:20251106T210000
DTSTAMP:20250926T065644Z
URL:https://fja.be/evenements/initiation-a-la-soudure/
SUMMARY:Initiation à la soudure
DESCRIPTION:Au programme :\n\n 	Découverte des différentes techniques de 
 soudure\;\n 	Techniques de soudure en fonction des métaux utilisés\;\n 	
 Adaptation du programme selon les demandes des participants\n\nDates :\n\n
 Tous les jeudis de 18h00 à 21h00 à partir du 06 novembre 2025 jusqu'au 0
 5 février 2026.\n\nInformations et inscriptions :\n\nLaure Baudoin - 081/
 81.01.05 ou laure.baudoin@fja.be\n\nLien d'inscription : https://form.jotf
 orm.com/FJA/formation-soudure
CATEGORIES:Cours C
END:VEVENT
BEGIN:VTIMEZONE
TZID:Europe/Paris
X-LIC-LOCATION:Europe/Paris
BEGIN:STANDARD
DTSTART:20251026T020000
TZOFFSETFROM:+0200
TZOFFSETTO:+0100
TZNAME:CET
END:STANDARD
END:VTIMEZONE
END:VCALENDAR