BEGIN:VCALENDAR
VERSION:2.0
PRODID:-//wp-events-plugin.com//6.6.3//EN
TZID:Europe/Paris
X-WR-TIMEZONE:Europe/Paris
BEGIN:VEVENT
UID:248@fja.be
DTSTART;TZID=Europe/Paris:20251006T130000
DTEND;TZID=Europe/Paris:20251006T160000
DTSTAMP:20250917T055406Z
URL:https://fja.be/evenements/initiation-a-linsemination-artificielle-prov
 ince-de-namur/
SUMMARY:Initiation à l'insémination artificielle - Province de Namur
DESCRIPTION:\nEnvie de vous former à l'insémination artificielle ? Nous v
 ous proposons de vous former à Namur\n\n\n\nPourquoi inséminer ses anima
 ux soi-même ?\nL'insémination artificielle est une technique essentielle
  à la sélection génétique et par conséquent à la bonne santé et aux
  performances d'un troupeau \nPratiquer soi-même permet un taux de réuss
 ite élevé puisque la technique est utilisée au meilleur moment du pic d
 e chaleur \nPour réaliser des économies sur les prestations d'inséminat
 eurs externes \n\n\n\nConvaincu ? \nInfos et inscriptions \nLaure Baudoin 
 - 081/81.01.05\nInscriptions : https://form.jotform.com/FJA/insemination-n
 amur\n
CATEGORIES:Cours C
END:VEVENT
BEGIN:VTIMEZONE
TZID:Europe/Paris
X-LIC-LOCATION:Europe/Paris
BEGIN:DAYLIGHT
DTSTART:20250330T030000
TZOFFSETFROM:+0100
TZOFFSETTO:+0200
TZNAME:CEST
END:DAYLIGHT
END:VTIMEZONE
END:VCALENDAR