BEGIN:VCALENDAR
VERSION:2.0
PRODID:-//wp-events-plugin.com//6.6.3//EN
TZID:Europe/Paris
X-WR-TIMEZONE:Europe/Paris
BEGIN:VEVENT
UID:188@fja.be
DTSTART;TZID=Europe/Paris:20250420T210000
DTEND;TZID=Europe/Paris:20250420T234500
DTSTAMP:20250321T081824Z
URL:https://fja.be/evenements/irish-champagne-by-fja-tournai-1/
SUMMARY:Irish & Champagne by FJA Tournai 1
DESCRIPTION:Chers amis\,\n\nLa FJA Tournai 1 a le plaisir de vous convier 
 à sa traditionnelle soirée « Irish &amp\; Champagne ».\n\n Le dimanch
 e 20 avril 2025 A partir de 21h00A La Ferme de Bouchegnies (rue de Bouche
 gnies 12\, 7604 Wasmes-Audemez-Briffoeuil)\n\nIrish et champagne seront bi
 en sûr de la partie ainsi que bières et cocktails ! \n\n!! Tenue correct
 e exigée !!\n\nLe comité se réserve le droit d’entrée.Nous comptons 
 sur votre participation et espérons vous voir nombreux et nombreuses ! 
CATEGORIES:Soirée
END:VEVENT
BEGIN:VTIMEZONE
TZID:Europe/Paris
X-LIC-LOCATION:Europe/Paris
BEGIN:DAYLIGHT
DTSTART:20250330T030000
TZOFFSETFROM:+0100
TZOFFSETTO:+0200
TZNAME:CEST
END:DAYLIGHT
END:VTIMEZONE
END:VCALENDAR