BEGIN:VCALENDAR
VERSION:2.0
PRODID:-//wp-events-plugin.com//6.6.3//EN
TZID:Europe/Paris
X-WR-TIMEZONE:Europe/Paris
BEGIN:VEVENT
UID:173@fja.be
DTSTART;TZID=Europe/Paris:20250315T213000
DTEND;TZID=Europe/Paris:20250315T234500
DTSTAMP:20250307T130625Z
URL:https://fja.be/evenements/jager-vs-peket-facon-retro-house-by-fja-eghe
 zee/
SUMMARY:Jager VS Peket façon rétro house by FJA Eghezée
DESCRIPTION:La FJA d’Éghezée vous donne rendez-vous le 15 mars pour sa 
 traditionnelle soirée "Jager VS peket" façon rétro house.\n\nBoissons t
 oute la soirée afin de satisfaire les plus assoiffés  Bières Softs 
 FruitéesJager\n pekets\n\n Présence d’un Food-truck pour les petites
  faims \n Tarifs FJA habituels\n Réduction pour les membres uniquement
  sur présentation du QR code via l'application FJA.\n\n Caution gobelet 
 1€\n Interdit aux - de 16ans\n Alcool interdit aux - de 18 ans\nSécur
 ité assurée.\nRue du Libut 72\,5310 Saint Germain\nLa FJA décline toute
 s responsabilités en cas de pertes\, vols\, accidents\, cuites\, râteaux
 \, gueules de bois\,..On vous y attend nombreux 
CATEGORIES:Soirée
END:VEVENT
BEGIN:VTIMEZONE
TZID:Europe/Paris
X-LIC-LOCATION:Europe/Paris
BEGIN:STANDARD
DTSTART:20241027T020000
TZOFFSETFROM:+0200
TZOFFSETTO:+0100
TZNAME:CET
END:STANDARD
END:VTIMEZONE
END:VCALENDAR