BEGIN:VCALENDAR
VERSION:2.0
PRODID:-//wp-events-plugin.com//6.6.3//EN
TZID:Europe/Paris
X-WR-TIMEZONE:Europe/Paris
BEGIN:VEVENT
UID:86@fja.be
DTSTART;TZID=Europe/Paris;VALUE=DATE:20240721
DTEND;TZID=Europe/Paris;VALUE=DATE:20240722
DTSTAMP:20240621T112604Z
URL:https://fja.be/evenements/jeux-inter-fja-challenge-namurois/
SUMMARY:Jeux Inter-FJA Challenge Namurois
DESCRIPTION:
CATEGORIES:Autre
END:VEVENT
BEGIN:VTIMEZONE
TZID:Europe/Paris
X-LIC-LOCATION:Europe/Paris
BEGIN:DAYLIGHT
DTSTART:20240331T030000
TZOFFSETFROM:+0100
TZOFFSETTO:+0200
TZNAME:CEST
END:DAYLIGHT
END:VTIMEZONE
END:VCALENDAR