BEGIN:VCALENDAR
VERSION:2.0
PRODID:-//wp-events-plugin.com//6.6.3//EN
TZID:Europe/Paris
X-WR-TIMEZONE:Europe/Paris
BEGIN:VEVENT
UID:167@fja.be
DTSTART;TZID=Europe/Paris:20250307T220000
DTEND;TZID=Europe/Paris:20250307T234500
DTSTAMP:20250129T152938Z
URL:https://fja.be/evenements/lamour-est-au-macqueen-by-fja-basse-hesbaye/
SUMMARY:L'amour est au macqueen by FJA Basse-Hesbaye
DESCRIPTION:La FJA Basse - Hesbaye réitère son événement et vous invite
  au Mac Queen pour sa traditionnelle soirée "L'amour est au Mac Queen"\n\
 nLe concept ?\nQue tu sois en couple\, célibataire ou en monde chaud lapi
 n\, choisis ta couleur à l'entrée et passe une soirée de folie ! \n\nQ
 uand ?\nLe vendredi 07 mars\n\nOù ?\nMac Queen\, Tongersesteenweg 3383840
  Borgloon\n\n Resident Dj Steve \nCode couleur :\n Vert -&gt\; Célibat
 aire Rouge -&gt\; En couple Bleu -&gt\; Chaud lapin\n\nPAF :\nMembre FJA
  (présentation du code QR obligatoire) : 6€ Non membre : 8€\n\nLe com
 ité se réserve le droit d'entrée et décline toute responsabilité en c
 as de perte\, vol\, cuite et râteau.
CATEGORIES:Soirée
END:VEVENT
BEGIN:VTIMEZONE
TZID:Europe/Paris
X-LIC-LOCATION:Europe/Paris
BEGIN:STANDARD
DTSTART:20241027T020000
TZOFFSETFROM:+0200
TZOFFSETTO:+0100
TZNAME:CET
END:STANDARD
END:VTIMEZONE
END:VCALENDAR