BEGIN:VCALENDAR
VERSION:2.0
PRODID:-//wp-events-plugin.com//6.6.3//EN
TZID:Europe/Paris
X-WR-TIMEZONE:Europe/Paris
BEGIN:VEVENT
UID:229@fja.be
DTSTART;TZID=Europe/Paris;VALUE=DATE:20251005
DTEND;TZID=Europe/Paris;VALUE=DATE:20251006
DTSTAMP:20250625T085655Z
URL:https://fja.be/evenements/marche-gourmande-by-fja-ardennes-liegeoises/
SUMMARY:Marche gourmande by FJA Ardennes-Liégeoises
DESCRIPTION:
CATEGORIES:Autre
END:VEVENT
BEGIN:VTIMEZONE
TZID:Europe/Paris
X-LIC-LOCATION:Europe/Paris
BEGIN:DAYLIGHT
DTSTART:20250330T030000
TZOFFSETFROM:+0100
TZOFFSETTO:+0200
TZNAME:CEST
END:DAYLIGHT
END:VTIMEZONE
END:VCALENDAR