BEGIN:VCALENDAR
VERSION:2.0
PRODID:-//wp-events-plugin.com//6.6.3//EN
TZID:Europe/Paris
X-WR-TIMEZONE:Europe/Paris
BEGIN:VEVENT
UID:109@fja.be
DTSTART;TZID=Europe/Paris:20241108T220000
DTEND;TZID=Europe/Paris:20241108T234500
DTSTAMP:20241021T082354Z
URL:https://fja.be/evenements/pisang-party-by-fja-beaumont/
SUMMARY:Pisang party by FJA Beaumont
DESCRIPTION:La FJA de Beaumont a le plaisir de vous inviter à sa Pisang Pa
 rty 3ème édition !\n\nQuand?Le vendredi 8 novembre 2024 dès 22h\n\nOù?
 Dans les établissements AgrimeertRue les Routures 13\, 6500 Thirimont\n\n
 Pisang \, choppes \, softs \, … all in ( soirée forfaitaire)\n\nRestaur
 ation disponible ! \n\nSoirée sonorisée par ALPHACONCEPT\n\nTarifs soif
  party :Membres : 20€Non-membres : 25€\n\n N’oubliez pas de présen
 ter votre QRCODE pour prouver que vous êtes bien membres 2024\nCarte d’
 identité obligatoire \n\nEntrée interdite aux moins de 16 ans .\nAmbian
 ce et sécurité assurées!\n\nLe comité se réserve le droit d’entrée
  et décline toutes responsabilités en cas de pertes\, vols \, et/ou acci
 dents.\n\nLe comité de la FJA de Beaumont
CATEGORIES:Soirée
END:VEVENT
BEGIN:VTIMEZONE
TZID:Europe/Paris
X-LIC-LOCATION:Europe/Paris
BEGIN:STANDARD
DTSTART:20241027T020000
TZOFFSETFROM:+0200
TZOFFSETTO:+0100
TZNAME:CET
END:STANDARD
END:VTIMEZONE
END:VCALENDAR