BEGIN:VCALENDAR
VERSION:2.0
PRODID:-//wp-events-plugin.com//6.6.3//EN
TZID:Europe/Paris
X-WR-TIMEZONE:Europe/Paris
BEGIN:VEVENT
UID:254@fja.be
DTSTART;TZID=Europe/Paris:20251024T213000
DTEND;TZID=Europe/Paris:20251024T234500
DTSTAMP:20251007T092347Z
URL:https://fja.be/evenements/soif-party-by-fja-beaumont/
SUMMARY:Soif party by FJA Beaumont
DESCRIPTION:
CATEGORIES:Soirée
END:VEVENT
BEGIN:VTIMEZONE
TZID:Europe/Paris
X-LIC-LOCATION:Europe/Paris
BEGIN:DAYLIGHT
DTSTART:20250330T030000
TZOFFSETFROM:+0100
TZOFFSETTO:+0200
TZNAME:CEST
END:DAYLIGHT
END:VTIMEZONE
END:VCALENDAR