BEGIN:VCALENDAR
VERSION:2.0
PRODID:-//wp-events-plugin.com//6.6.3//EN
TZID:Europe/Paris
X-WR-TIMEZONE:Europe/Paris
BEGIN:VEVENT
UID:255@fja.be
DTSTART;TZID=Europe/Paris:20251018T213000
DTEND;TZID=Europe/Paris:20251018T234500
DTSTAMP:20251007T092453Z
URL:https://fja.be/evenements/soiree-before-halloween-by-fja-merbes-binche
 /
SUMMARY:Soirée before Halloween by FJA Merbes-Binche
DESCRIPTION:
CATEGORIES:Soirée
END:VEVENT
BEGIN:VTIMEZONE
TZID:Europe/Paris
X-LIC-LOCATION:Europe/Paris
BEGIN:DAYLIGHT
DTSTART:20250330T030000
TZOFFSETFROM:+0100
TZOFFSETTO:+0200
TZNAME:CEST
END:DAYLIGHT
END:VTIMEZONE
END:VCALENDAR