BEGIN:VCALENDAR
VERSION:2.0
PRODID:-//wp-events-plugin.com//6.6.3//EN
TZID:Europe/Paris
X-WR-TIMEZONE:Europe/Paris
BEGIN:VEVENT
UID:182@fja.be
DTSTART;TZID=Europe/Paris:20250405T220000
DTEND;TZID=Europe/Paris:20250405T234500
DTSTAMP:20250317T133548Z
URL:https://fja.be/evenements/soiree-blanc-oasis-by-fja-rochefort/
SUMMARY:Soirée blanc Oasis by FJA Rochefort
DESCRIPTION:la soirée blanc/oasis fait son retour \n\nLe cocktail inoubli
 able et bien d’autres boissons seront présentes pour te mettre la tête
  à l’envers \n\nL’événement à ne pas manquer!! Pas d’excuse! Tu
  DOIS venir \n\nAlors bloque la date du 5 avril\, pour passer une soirée
  de foliiieeeee \n\nCette soirée se passe à la salle La Valesienne à L
 avaux-Sainte-AnneRue Sainte Anne 12\,5580 Lavaux-Sainte-Anne\n\nDj Ben-B s
 era présent pour t’ambiancer \n\nPour vous relancer dans la soirée il
  y aura bien évidemment un food truck \n\nPssst\, prépare ton plus beau
  sourire \nBisous\, la fja de Rochefort 
CATEGORIES:Soirée
END:VEVENT
BEGIN:VTIMEZONE
TZID:Europe/Paris
X-LIC-LOCATION:Europe/Paris
BEGIN:DAYLIGHT
DTSTART:20250330T030000
TZOFFSETFROM:+0100
TZOFFSETTO:+0200
TZNAME:CEST
END:DAYLIGHT
END:VTIMEZONE
END:VCALENDAR