BEGIN:VCALENDAR
VERSION:2.0
PRODID:-//wp-events-plugin.com//6.6.3//EN
TZID:Europe/Paris
X-WR-TIMEZONE:Europe/Paris
BEGIN:VEVENT
UID:142@fja.be
DTSTART;TZID=Europe/Paris:20250118T220000
DTEND;TZID=Europe/Paris:20250118T234500
DTSTAMP:20250107T105856Z
URL:https://fja.be/evenements/soiree-chasse-by-fja-condroz-liegeois-2/
SUMMARY:Soirée Chasse by FJA Condroz-Liégeois
DESCRIPTION:Ayyoooooo les loustics Et oueeee on est de retour Après une 
 année 2024 complètement folle mais surtout un CMJ début septembre qu’
 on est pas près d’oublier avec un hangar plein à craquer et une ambian
 ce bien digne du Condroz on a qu’une envie c’est de vous recroiser ave
 c nous autres tous Tu pensais quand même pas que t’allais démarrer 20
 25 sans nous ? Nous avons donc le plaisir de vous convier à la troisièm
 e édition de notre soirée chasse Encore soirée chasse ? Bah oué a cha
 ques fois c’est le bordel Au menu ? Pas grand chose qui change des autr
 es annéesUne salle carré\, un bar \, et de l’alcool Ha oué j’oubli
 ais …Un DJ FAB bien connu des FJA qui va nous faire le plaisir de mettre
  un fond de musique à sa manière Qui dit Condroz dit alcool qui dit alc
 ool dit chasse donc qui dit chasse diiiittt Jägermester Pour être un p
 eut plus concrèt\,\n le 18 Janvier 2025à la salle « ensemble » à Maf
 fe 22h -&gt\; 3hbière et ses dérivés\, JägermaisterDJ FabSécurité a
 ssurée\nPAF :Membres (uniquement sous présentations du QR code) 6€Non 
 membres 8€\n\nLa FJA du Condroz - Liegeois décline toute responsabilit
 é en cas de pertes\, vol et accident et se réserve le droit d’entrée\
 nJusqu’à la portez vous bien  
CATEGORIES:Soirée
END:VEVENT
BEGIN:VTIMEZONE
TZID:Europe/Paris
X-LIC-LOCATION:Europe/Paris
BEGIN:STANDARD
DTSTART:20241027T020000
TZOFFSETFROM:+0200
TZOFFSETTO:+0100
TZNAME:CET
END:STANDARD
END:VTIMEZONE
END:VCALENDAR