BEGIN:VCALENDAR
VERSION:2.0
PRODID:-//wp-events-plugin.com//6.6.3//EN
TZID:Europe/Paris
X-WR-TIMEZONE:Europe/Paris
BEGIN:VEVENT
UID:329@fja.be
DTSTART;TZID=Europe/Paris:20260508T203000
DTEND;TZID=Europe/Paris:20260508T234500
DTSTAMP:20260421T092052Z
URL:https://fja.be/evenements/soiree-ferme-en-folie-by-fja-soignies/
SUMMARY:Soirée Ferme en Folie by FJA Soignies
DESCRIPTION:
CATEGORIES:Soirée
END:VEVENT
BEGIN:VTIMEZONE
TZID:Europe/Paris
X-LIC-LOCATION:Europe/Paris
BEGIN:DAYLIGHT
DTSTART:20260329T030000
TZOFFSETFROM:+0100
TZOFFSETTO:+0200
TZNAME:CEST
END:DAYLIGHT
END:VTIMEZONE
END:VCALENDAR