BEGIN:VCALENDAR
VERSION:2.0
PRODID:-//wp-events-plugin.com//6.6.3//EN
TZID:Europe/Paris
X-WR-TIMEZONE:Europe/Paris
BEGIN:VEVENT
UID:101@fja.be
DTSTART;TZID=Europe/Paris:20241031T213000
DTEND;TZID=Europe/Paris:20241031T234500
DTSTAMP:20241021T080912Z
URL:https://fja.be/evenements/soiree-halloween-by-fja-rochefort/
SUMMARY:Soirée Halloween by FJA Rochefort
DESCRIPTION:Une fois de plus la FJA Rochefort à le plaisir de vous inviter
  à sa traditionnelle soirée Halloween \n\nIl y aura de la bière ainsi 
 que ses dérivés (mazout\, panaché\, tango\,…)\, de la battin fruitée
 \, du blanc coca Et petite nouveauté pour cette année\, il y aura égal
 ement du peket \nUn Food truck sera présent pour vos petites faim \n\n
  Quand ?Le jeudi 31 octobre 2024\nOù ?A la salle concordia de TellinRue 
 grande\, 256927 Tellin\n\n  Soirée animée par Dj Ben-B (22h-3h)(Sono F
 unny Track)\n\nTarif FJA habituelMembre : 6€Non membre : 8€Ticket : 2
 €\n\n Informations :* Sécurité assurée (RDW Security)\n* La FJA de R
 ochefort se réserve le droit d'entrée et décline toutes responsabilité
 s en cas de pertes\, vols ou accidents
CATEGORIES:Soirée
END:VEVENT
BEGIN:VTIMEZONE
TZID:Europe/Paris
X-LIC-LOCATION:Europe/Paris
BEGIN:STANDARD
DTSTART:20241027T020000
TZOFFSETFROM:+0200
TZOFFSETTO:+0100
TZNAME:CET
END:STANDARD
END:VTIMEZONE
END:VCALENDAR