BEGIN:VCALENDAR
VERSION:2.0
PRODID:-//wp-events-plugin.com//6.6.3//EN
TZID:Europe/Paris
X-WR-TIMEZONE:Europe/Paris
BEGIN:VEVENT
UID:102@fja.be
DTSTART;TZID=Europe/Paris:20241031T213000
DTEND;TZID=Europe/Paris:20241031T234500
DTSTAMP:20241021T081040Z
URL:https://fja.be/evenements/soiree-halloween-de-la-fja-nivelles-genappe/
SUMMARY:Soirée Halloween de la FJA Nivelles Genappe
DESCRIPTION:Il est temps de bloquer la date et de vous préparer pour le pr
 ochain événement de la FJA Nivelles-Genappe : la soirée Halloween ! \n
 Nous avons le plaisir de vous inviter à notre traditionnelle soirée "Hal
 loween"\n-&gt\; Quand?Le jeudi 31 octobre 2024 dès 21h30\n-&gt\; Où?À l
 a commanderie de Vaillampont\, 10 avenue de Vaillampont\,1402 Thines\n-&gt
 \; Tarifs:Membre: 20€Non-membre: 25€caution 1€Pour les personnes dé
 guisées\, une petite réduction de 5€ sera faite! \n\nPrésence d'un f
 ood-truck pour rassasier\n\nSécurité et ambiance assurées.\nLe comité 
 décline toute responsabilité en cas de vol ou accident.Interdit aux moin
 s de 16 ans. CARTE D'IDENTITE OBLIGATOIRE.\nNous comptons sur vous pour ê
 tre présents et en très grande forme !N'hésitez pas à sortir vos plus 
 beaux costumes d'halloween 
CATEGORIES:Soirée
END:VEVENT
BEGIN:VTIMEZONE
TZID:Europe/Paris
X-LIC-LOCATION:Europe/Paris
BEGIN:STANDARD
DTSTART:20241027T020000
TZOFFSETFROM:+0200
TZOFFSETTO:+0100
TZNAME:CET
END:STANDARD
END:VTIMEZONE
END:VCALENDAR