BEGIN:VCALENDAR
VERSION:2.0
PRODID:-//wp-events-plugin.com//6.6.3//EN
TZID:Europe/Paris
X-WR-TIMEZONE:Europe/Paris
BEGIN:VEVENT
UID:244@fja.be
DTSTART;TZID=Europe/Paris:20250913T210000
DTEND;TZID=Europe/Paris:20250913T234500
DTSTAMP:20250821T113549Z
URL:https://fja.be/evenements/soiree-hawai-party-by-fja-ath/
SUMMARY:Soirée Hawai party by FJA Ath
DESCRIPTION:
CATEGORIES:Soirée
END:VEVENT
BEGIN:VTIMEZONE
TZID:Europe/Paris
X-LIC-LOCATION:Europe/Paris
BEGIN:DAYLIGHT
DTSTART:20250330T030000
TZOFFSETFROM:+0100
TZOFFSETTO:+0200
TZNAME:CEST
END:DAYLIGHT
END:VTIMEZONE
END:VCALENDAR