BEGIN:VCALENDAR
VERSION:2.0
PRODID:-//wp-events-plugin.com//6.6.3//EN
TZID:Europe/Paris
X-WR-TIMEZONE:Europe/Paris
BEGIN:VEVENT
UID:132@fja.be
DTSTART;TZID=Europe/Paris:20241221T220000
DTEND;TZID=Europe/Paris:20241221T234500
DTSTAMP:20241206T105507Z
URL:https://fja.be/evenements/soiree-neige-x-amaretto-by-fja-gembloux/
SUMMARY:Soirée Neige X Amaretto by FJA Gembloux
DESCRIPTION:
CATEGORIES:Soirée
END:VEVENT
BEGIN:VTIMEZONE
TZID:Europe/Paris
X-LIC-LOCATION:Europe/Paris
BEGIN:STANDARD
DTSTART:20241027T020000
TZOFFSETFROM:+0200
TZOFFSETTO:+0100
TZNAME:CET
END:STANDARD
END:VTIMEZONE
END:VCALENDAR