BEGIN:VCALENDAR
VERSION:2.0
PRODID:-//wp-events-plugin.com//6.6.3//EN
TZID:Europe/Paris
X-WR-TIMEZONE:Europe/Paris
BEGIN:VEVENT
UID:279@fja.be
DTSTART;TZID=Europe/Paris:20260117T213000
DTEND;TZID=Europe/Paris:20260117T234500
DTSTAMP:20260106T122841Z
URL:https://fja.be/evenements/soiree-nouveau-comite-by-fja-soignies-2/
SUMMARY:Soirée nouveau comité by FJA Soignies
DESCRIPTION:
CATEGORIES:Soirée
END:VEVENT
BEGIN:VTIMEZONE
TZID:Europe/Paris
X-LIC-LOCATION:Europe/Paris
BEGIN:STANDARD
DTSTART:20251026T020000
TZOFFSETFROM:+0200
TZOFFSETTO:+0100
TZNAME:CET
END:STANDARD
END:VTIMEZONE
END:VCALENDAR