BEGIN:VCALENDAR
VERSION:2.0
PRODID:-//wp-events-plugin.com//6.6.3//EN
TZID:Europe/Paris
X-WR-TIMEZONE:Europe/Paris
BEGIN:VEVENT
UID:314@fja.be
DTSTART;TZID=Europe/Paris:20260411T214500
DTEND;TZID=Europe/Paris:20260411T234500
DTSTAMP:20260324T074801Z
URL:https://fja.be/evenements/soiree-paix-dieu-vs-peche-mell-by-fja-soigni
 es/
SUMMARY:Soirée Paix Dieu VS Pêche Mell by FJA Soignies
DESCRIPTION:
CATEGORIES:Soirée
END:VEVENT
BEGIN:VTIMEZONE
TZID:Europe/Paris
X-LIC-LOCATION:Europe/Paris
BEGIN:DAYLIGHT
DTSTART:20260329T030000
TZOFFSETFROM:+0100
TZOFFSETTO:+0200
TZNAME:CEST
END:DAYLIGHT
END:VTIMEZONE
END:VCALENDAR