BEGIN:VCALENDAR
VERSION:2.0
PRODID:-//wp-events-plugin.com//6.6.3//EN
TZID:Europe/Paris
X-WR-TIMEZONE:Europe/Paris
BEGIN:VEVENT
UID:164@fja.be
DTSTART;TZID=Europe/Paris:20250301T220000
DTEND;TZID=Europe/Paris:20250301T234500
DTSTAMP:20250123T085229Z
URL:https://fja.be/evenements/soiree-peket-by-fja-hannut/
SUMMARY:Soirée Peket by FJA Hannut
DESCRIPTION:Le nouveau comité de la FJA Hannut vous invite à sa soirée P
 eket \n\nQuoi de mieux pour se réchauffer en sortie d'hiver ?\n\nLa soir
 ée sera animée par @DJ Peanuts Sound and light by Peanuts https://www.
 facebook.com/share/158rbsYdk9/?mibextid=wwXIfr\n\n-----Infos pratiques ---
 --\nLieu : SA Moulin Gochel\, Rue du Crucifix 2A\, 4210 Burdinne\n De 22h
 00 à 03h00\n Entrée et ticket aux tarifs habituels FJA\n Il y aura de 
 quoi vous sustenter\n Interdit au - de 16 ans\nUn photographe sera prése
 nt pour immortaliser les plus beaux moments surtout si vous les avez oubli
 é le lendemain \n---------------------------------------\n\nLe comité s
 e réserve le droit d’entrée.\n Sécurité assurée par High Security\
 n\nOn vous attends nombreux et aucune excuse vous aurez 2 jours pour vous 
 remettre de cette soirée incroyable  (et oui le mardi suivant c’est c
 ongé )\n\nLa FJA décline toutes responsabilités en cas de vols\, perte
 s et accidents + pertes de mémoire\, perte dignité\, gueule de bois…\n
 \n Un tout grand merci à la famille Gochel pour sa confiance
CATEGORIES:Soirée
END:VEVENT
BEGIN:VTIMEZONE
TZID:Europe/Paris
X-LIC-LOCATION:Europe/Paris
BEGIN:STANDARD
DTSTART:20241027T020000
TZOFFSETFROM:+0200
TZOFFSETTO:+0100
TZNAME:CET
END:STANDARD
END:VTIMEZONE
END:VCALENDAR