BEGIN:VCALENDAR
VERSION:2.0
PRODID:-//wp-events-plugin.com//6.6.3//EN
TZID:Europe/Paris
X-WR-TIMEZONE:Europe/Paris
BEGIN:VEVENT
UID:147@fja.be
DTSTART;TZID=Europe/Paris:20250125T220000
DTEND;TZID=Europe/Paris:20250125T234500
DTSTAMP:20250107T110947Z
URL:https://fja.be/evenements/soiree-pre-ski-by-fja-eghezee/
SUMMARY:Soirée Pré-Ski by FJA Eghezée
DESCRIPTION:La FJA d’Éghezée vous donne rendez-vous le 25 janvier pour 
 sa première soirée de l’année 2025.C'est l'occasion de lacher la pres
 sion après les examens et de se mettre dans le bain avant de partir au sk
 i !\n\nBoissons toute la soirée afin de satisfaire les plus assoiffés 
  Bières Softs Fruitées\n Présence d’un Food-truck pour les petite
 s faims \n Tarifs FJA habituels Réduction pour les membres uniquement 
 sur présentation du QR code via l'application FJA. Caution gobelet 1€\
 n\n Interdit aux - de 16ans Alcool interdit aux - de 18 ans\nSécurité 
 assurée.\nRue du Libut 72\,5310 Saint Germain\nLa FJA décline toutes res
 ponsabilités en cas de pertes\, vols\, accidents\, cuites\, râteaux\, gu
 eules de bois\,..On vous y attend nombreux 
CATEGORIES:Soirée
END:VEVENT
BEGIN:VTIMEZONE
TZID:Europe/Paris
X-LIC-LOCATION:Europe/Paris
BEGIN:STANDARD
DTSTART:20241027T020000
TZOFFSETFROM:+0200
TZOFFSETTO:+0100
TZNAME:CET
END:STANDARD
END:VTIMEZONE
END:VCALENDAR