BEGIN:VCALENDAR
VERSION:2.0
PRODID:-//wp-events-plugin.com//6.6.3//EN
TZID:Europe/Paris
X-WR-TIMEZONE:Europe/Paris
BEGIN:VEVENT
UID:264@fja.be
DTSTART;TZID=Europe/Paris:20251108T213000
DTEND;TZID=Europe/Paris:20251108T234500
DTSTAMP:20251029T092835Z
URL:https://fja.be/evenements/soiree-rhumantique-by-fja-provinciale-namur-
 2/
SUMMARY:Soirée Rhum'Antique by FJA Provinciale Namur
DESCRIPTION:
CATEGORIES:Soirée
END:VEVENT
BEGIN:VTIMEZONE
TZID:Europe/Paris
X-LIC-LOCATION:Europe/Paris
BEGIN:STANDARD
DTSTART:20251026T020000
TZOFFSETFROM:+0200
TZOFFSETTO:+0100
TZNAME:CET
END:STANDARD
END:VTIMEZONE
END:VCALENDAR