BEGIN:VCALENDAR
VERSION:2.0
PRODID:-//wp-events-plugin.com//6.6.3//EN
TZID:Europe/Paris
X-WR-TIMEZONE:Europe/Paris
BEGIN:VEVENT
UID:145@fja.be
DTSTART;TZID=Europe/Paris:20250125T214500
DTEND;TZID=Europe/Paris:20250125T234500
DTSTAMP:20250107T110500Z
URL:https://fja.be/evenements/soiree-woodberriers-night-by-fja-seneffe/
SUMMARY:Soirée Woodberriers Night by FJA Seneffe
DESCRIPTION:La FJA de Seneffe a le plaisir de vous convier à sa traditionn
 elle soirée Woodberries !\n\nLe samedi 25 janvier 2025 à partir de 21h30
 .\n Où?Famille CappelleRue Joseph Lhoir\,986181 Courcelles\nAnimation pa
 r DJ FAB &amp\; Red Sound\nTarifs FJA habituels (soif party )\nN’oubliez
  pas la caution du gobelet = 1€Attention en fin de soirée nous vous ren
 drons 1€/personne (même si vous avez 5 gobelets)\nCarte d'identité obl
 igatoire ! Entrée interdite aux moins de 16 ans !\nTenue correcte exigée
  ! (Pas de training\, pas de casquette\,etc.)\n\nLe comité décline toute
 s responsabilités en cas de pertes\, vols et/ou accidents. La FJA se rés
 erve le droit d’entrée.\nLe comité FJA de Seneffe 
CATEGORIES:Soirée
END:VEVENT
BEGIN:VTIMEZONE
TZID:Europe/Paris
X-LIC-LOCATION:Europe/Paris
BEGIN:STANDARD
DTSTART:20241027T020000
TZOFFSETFROM:+0200
TZOFFSETTO:+0100
TZNAME:CET
END:STANDARD
END:VTIMEZONE
END:VCALENDAR