BEGIN:VCALENDAR
VERSION:2.0
PRODID:-//wp-events-plugin.com//6.6.3//EN
TZID:Europe/Paris
X-WR-TIMEZONE:Europe/Paris
BEGIN:VEVENT
UID:257@fja.be
DTSTART;TZID=Europe/Paris:20251018T193000
DTEND;TZID=Europe/Paris:20251018T234500
DTSTAMP:20251007T092957Z
URL:https://fja.be/evenements/souper-sanglier-by-fja-sprimont/
SUMMARY:Souper sanglier by FJA Sprimont
DESCRIPTION:
CATEGORIES:Soirée
END:VEVENT
BEGIN:VTIMEZONE
TZID:Europe/Paris
X-LIC-LOCATION:Europe/Paris
BEGIN:DAYLIGHT
DTSTART:20250330T030000
TZOFFSETFROM:+0100
TZOFFSETTO:+0200
TZNAME:CEST
END:DAYLIGHT
END:VTIMEZONE
END:VCALENDAR