BEGIN:VCALENDAR
VERSION:2.0
PRODID:-//wp-events-plugin.com//6.6.3//EN
TZID:Europe/Paris
X-WR-TIMEZONE:Europe/Paris
BEGIN:VEVENT
UID:281@fja.be
DTSTART;TZID=Europe/Paris:20260124T193000
DTEND;TZID=Europe/Paris:20260124T234500
DTSTAMP:20260106T123010Z
URL:https://fja.be/evenements/souper-vol-au-vent-by-fja-malmedy-waimes/
SUMMARY:Souper Vol au vent by FJA Malmedy-Waimes
DESCRIPTION:
CATEGORIES:Soirée
END:VEVENT
BEGIN:VTIMEZONE
TZID:Europe/Paris
X-LIC-LOCATION:Europe/Paris
BEGIN:STANDARD
DTSTART:20251026T020000
TZOFFSETFROM:+0200
TZOFFSETTO:+0100
TZNAME:CET
END:STANDARD
END:VTIMEZONE
END:VCALENDAR