BEGIN:VCALENDAR
VERSION:2.0
PRODID:-//wp-events-plugin.com//6.6.3//EN
TZID:Europe/Paris
X-WR-TIMEZONE:Europe/Paris
BEGIN:VEVENT
UID:146@fja.be
DTSTART;TZID=Europe/Paris:20250125T193000
DTEND;TZID=Europe/Paris:20250125T234500
DTSTAMP:20250107T110607Z
URL:https://fja.be/evenements/souper-vol-au-vent-by-malmedy-waimes/
SUMMARY:Souper Vol au vent by Malmedy-Waimes
DESCRIPTION:La FJA Malmedy - Waimes a le plaisir de vous inviter à son sou
 per vol au vent.\n\n Quand ? Le 25 janvier 2025 dès 19h30.\n Où ? Sall
 e de Bellevaux (Route de l'Amblève 18\, 4960 Malmedy)\nAu menu :- Apérit
 if\;- Vol au vent avec frites\;- Dessert.\nTarifs:- Adultes → 18€- Enf
 ants → 14€\n\n Réservation obligatoire au plus tard pour le 19 janvi
 er auprès de :- Tony Lemaire (0479/19.12.34)- Valentine Arnould (0496/43.
 68.69)- Aurore Adam (0476/69.32.75)\n\n Réservation effective après ré
 ception du payement sur le compte BE32 1031 1069 9502.\n\nEn espérant vou
 s voir nombreux et de passer une agréable soirée\,\nLa FJA de Malmedy - 
 Waimes\n\nLa FJA de Malmedy - Waimes décline toutes responsabilités en c
 as de pertes\, vols ou accidents.
CATEGORIES:Soirée
END:VEVENT
BEGIN:VTIMEZONE
TZID:Europe/Paris
X-LIC-LOCATION:Europe/Paris
BEGIN:STANDARD
DTSTART:20241027T020000
TZOFFSETFROM:+0200
TZOFFSETTO:+0100
TZNAME:CET
END:STANDARD
END:VTIMEZONE
END:VCALENDAR