BEGIN:VCALENDAR
VERSION:2.0
PRODID:-//wp-events-plugin.com//6.6.3//EN
TZID:Europe/Paris
X-WR-TIMEZONE:Europe/Paris
BEGIN:VEVENT
UID:138@fja.be
DTSTART;TZID=Europe/Paris;VALUE=DATE:20241213
DTEND;TZID=Europe/Paris;VALUE=DATE:20241216
DTSTAMP:20241206T110645Z
URL:https://fja.be/evenements/stand-de-la-fja-chimay-au-marche-de-noel-de-
 chimay/
SUMMARY:Stand de la FJA Chimay au marché de Noel de Chimay
DESCRIPTION:
CATEGORIES:Soirée
END:VEVENT
BEGIN:VTIMEZONE
TZID:Europe/Paris
X-LIC-LOCATION:Europe/Paris
BEGIN:STANDARD
DTSTART:20241027T020000
TZOFFSETFROM:+0200
TZOFFSETTO:+0100
TZNAME:CET
END:STANDARD
END:VTIMEZONE
END:VCALENDAR